BEGIN:VCALENDAR
VERSION:2.0
PRODID:-//eventon.com NONSGML v1.0//EN
CALSCALE:GREGORIAN
METHOD:PUBLISH
BEGIN:VEVENT
UID:69ecce849ee52
DTSTAMP:20260425T142404Z
DTSTART:20240609T120000Z
DTEND:20240609T150000Z
LOCATION:Museum für Regionalgeschichte Pönitz Lindenstraße 23\,  23684 Scharbeutz
SUMMARY:„Zinnbilder – Die Miniaturenwelt des Diether Schuhknecht“
DESCRIPTION:Die diesjährige Sonderausstellung „Zinnbilder – Die Miniat
 urenwelt des Diether Schuhknecht“ zeigt der Verein für Regionalgeschicht
 e im Museum in Pönitz. Diether Schuhknecht (1933–2003) aus Ottendorf\,  
 ehemaliger Lehrer in Süsel\,  hat mehr als 30 Jahre Zinnfiguren gesammelt\
 ,  bemalt und in Dioramen zusammengestellt. Der weitgereiste Lehrer stellte
  in diesen Miniaturszenen unterschiedliche Themen und[..]\nhttps://schleswi
 g-holstein.sh/blog/veranstaltungen/zinnbilder-die-miniaturenwelt-des-diethe
 r-schuhknecht/
URL:https://schleswig-holstein.sh/blog/veranstaltungen/zinnbilder-die-miniaturenwelt-des-diether-schuhknecht/
END:VEVENT
END:VCALENDAR