BEGIN:VCALENDAR
VERSION:2.0
PRODID:-//eventon.com NONSGML v1.0//EN
CALSCALE:GREGORIAN
METHOD:PUBLISH
BEGIN:VEVENT
UID:69ebd0700d2da
DTSTAMP:20260424T202000Z
DTSTART:20241207T190000Z
DTEND:20241207T225900Z
LOCATION:S. Nikolaikirche Nikolaikirchhof 8
SUMMARY:Flensburg: Schwedische Weihnachten mit FJARILL
DESCRIPTION:Anfang Dezember erwartet uns in der Flensburger St. Nikolaikirc
 he ein ganz besonderer Abend: Die Flensburger Hofkultur lädt ein zu „Sch
 wedische Weihnachten mit Fjarill“ und gemeinsam wollen wir uns musikalisc
 h auf den Weg „Huiswaarts“ &#8211; heimwärts &#8211; begeben. Dieser i
 nnige Wunsch\,  nach Hause zu kommen\,  verbindet alle Menschen\,  die Weih
 nachten feiern.[..]\nhttps://schleswig-holstein.sh/blog/veranstaltungen/sch
 wedische-weihnachten-mit-fjarill/
URL:https://schleswig-holstein.sh/blog/veranstaltungen/schwedische-weihnachten-mit-fjarill/
END:VEVENT
END:VCALENDAR