BEGIN:VCALENDAR
VERSION:2.0
PRODID:-//eventon.com NONSGML v1.0//EN
CALSCALE:GREGORIAN
METHOD:PUBLISH
BEGIN:VEVENT
UID:69ed61b1aabbb
DTSTAMP:20260426T005201Z
DTSTART:20241206T183000Z
DTEND:20241206T203000Z
LOCATION:KBH Marne Schillerstraße 11\,  25709 Marne
SUMMARY:Marne: Schwarzblonde Weihnacht
DESCRIPTION:Schwarzblond &#8211; das sind Benny und Monella. Sie sind glamo
 urös\,  sie sind schrill. Sie sind poetisch und sexy\,  romantisch und roc
 kig\,  kontrastreich wie Himmel und Hölle\,  wie schwarz und blond. &#8211
 ; Und sie gehören zum Exklusivsten\,  was Berlin an Glamour Pop Entertainm
 ent zu bieten hat. Als Duo präsentieren sie eine[..]\nhttps://schleswig-ho
 lstein.sh/blog/veranstaltungen/schwarzblonde-weihnacht/
URL:https://schleswig-holstein.sh/blog/veranstaltungen/schwarzblonde-weihnacht/
END:VEVENT
END:VCALENDAR