BEGIN:VCALENDAR
VERSION:2.0
PRODID:-//eventon.com NONSGML v1.0//EN
CALSCALE:GREGORIAN
METHOD:PUBLISH
BEGIN:VEVENT
UID:69ecc36e90b9e
DTSTAMP:20260425T133646Z
DTSTART:20241219T180000Z
DTEND:20241219T200000Z
LOCATION:St. Johanniskloster Schleswig Am St. Johanniskloster 14\,  24837 Schleswig
SUMMARY:Schleswig: Bosche erzählt Wilhelm Busch - Der Schmetterling
DESCRIPTION:Wenn alles sitzen bliebe\,  was wir in Haßund Liebe so voneina
 nder schwatzen\,  wenn Lügen Haare wären\,  wir wären rauhwie Bären und
  hätten keine Glatzen. Wilhelm Busch (1832 &#8211; 1908) www.TheaterdesWor
 tes.de Bosche erzählt &#8211; Wilhelm Busch: Der Schmetterling Kinder in i
 hrer Einfalt fragen immer und immer: Warum? Der Verständige tut das[..]\nh
 ttps://schleswig-holstein.sh/blog/veranstaltungen/bosche-erzaehlt-wilhelm-b
 usch-der-schmetterling-4/
URL:https://schleswig-holstein.sh/blog/veranstaltungen/bosche-erzaehlt-wilhelm-busch-der-schmetterling-4/
END:VEVENT
END:VCALENDAR