BEGIN:VCALENDAR
VERSION:2.0
PRODID:-//eventon.com NONSGML v1.0//EN
CALSCALE:GREGORIAN
METHOD:PUBLISH
BEGIN:VEVENT
UID:69eb9b8f5cc7c
DTSTAMP:20260424T163423Z
DTSTART:20241117
DTEND:20241118
LOCATION:Flensburger Schifffahrtsmuseum Schiffbrücke 39\,  24939 Flensburg
SUMMARY:Flensburg: FREMDE WELTEN
DESCRIPTION:Die Ausstellung soll die Besuchenden einladen\,  in einer selbs
 tkritischen Reflexion die persönlichen Grenzen zwischen dem Eigenem und de
 m Fremden auszuloten. Das Unvertraute steht außerhalb unserer eigenen Lebe
 nswelt und ist doch zugleich in uns. Fremd ist eigentlich das Andere\,  doc
 h manchmal sind wir uns auch selbst fremd. Zum Fremden wird das[..]\nhttps:
 //schleswig-holstein.sh/blog/veranstaltungen/sonderausstellung-fremde-welte
 n/
URL:https://schleswig-holstein.sh/blog/veranstaltungen/sonderausstellung-fremde-welten/
END:VEVENT
END:VCALENDAR