BEGIN:VCALENDAR
VERSION:2.0
PRODID:-//eventon.com NONSGML v1.0//EN
CALSCALE:GREGORIAN
METHOD:PUBLISH
BEGIN:VEVENT
UID:69ed3dbfcd774
DTSTAMP:20260425T221839Z
DTSTART:20241102T230000Z
DTEND:20250104T230000Z
LOCATION:Museum Eckernförde Rathausmarkt 8\,  24340 Eckernförde
SUMMARY:Eckernförde: Solvin Zankl - Wunder der Tiefsee
DESCRIPTION:Für seine Reportagen reist der Biologe und Fotograf Solvin Zan
 kl in die entlegensten Orte der Welt. Mit seinem Projekt „Wunder der Tief
 see“ widmet sich Zankl dem größten Ökosystem unserer Erde\,  das denno
 ch weitgehend unbekannt ist. Seine Fotografien führen in die dunkle und fa
 szinierende Tiefsee und stellen Lebewesen vor\,  die kaum[..]\nhttps://schl
 eswig-holstein.sh/blog/veranstaltungen/solvin-zankl-wunder-der-tiefsee/
URL:https://schleswig-holstein.sh/blog/veranstaltungen/solvin-zankl-wunder-der-tiefsee/
END:VEVENT
END:VCALENDAR