BEGIN:VCALENDAR
VERSION:2.0
PRODID:-//eventon.com NONSGML v1.0//EN
CALSCALE:GREGORIAN
METHOD:PUBLISH
BEGIN:VEVENT
UID:69e75f06d578f
DTSTAMP:20260421T112702Z
DTSTART:20250718T183000Z
DTEND:20250718T210000Z
LOCATION:Seebühne der Eutiner Festspiele Alter Bauhof 11
SUMMARY:Eutin: "Die Zauberflöte" auf der Eutiner Seebühne
DESCRIPTION:Es ist ein Werk der Superlative: Die Zauberflöte führt die Li
 ste der weltweit am meisten gespielten Opern mit großem Abstand an. 1791 k
 omponierte Wolfgang Amadeus Mozart ein Singspiel\,  in dem sich zauberhafte
  Musik\,  große Gefühle\,  Komik sowie Botschaften für Toleranz und Lieb
 e vereinen. Nach mehr als 230 Jahren zieht die[..]\nhttps://schleswig-holst
 ein.sh/blog/veranstaltungen/eutin-die-zauberfloete-auf-der-eutiner-seebuehn
 e/
URL:https://schleswig-holstein.sh/blog/veranstaltungen/eutin-die-zauberfloete-auf-der-eutiner-seebuehne/
END:VEVENT
END:VCALENDAR