BEGIN:VCALENDAR
VERSION:2.0
PRODID:-//eventon.com NONSGML v1.0//EN
CALSCALE:GREGORIAN
METHOD:PUBLISH
BEGIN:VEVENT
UID:69e7b2548e8ae
DTSTAMP:20260421T172228Z
DTSTART:20250112T170000Z
DTEND:20250112T184000Z
LOCATION:Slesvighus Lollfuß 89\,  Schleswig\,  Schleswig-Holstein 24837\,  Deutschland
SUMMARY:DORFPUNKS
DESCRIPTION:Schmalenstedt\,  ein fiktives Ostseedorf\,  in einem Sommer Anf
 ang der 1980er-Jahre: Punkrock hat die schleswig-holsteinische Provinz erre
 icht und bedeutet so viel mehr als eine Musikrichtung mit wenigen Akkorden 
 und viel Provokationspotenzial. Punkrock ist eine internationale Jugendbewe
 gung\,  in deren Schoß sich die titelgebenden Dorfpunks zusammenfinden. Si
 e träumen von Freiheit und Gemeinschaft\,  sind[..]\nhttps://schleswig-hol
 stein.sh/blog/veranstaltungen/dorfpunks/
URL:https://schleswig-holstein.sh/blog/veranstaltungen/dorfpunks/
END:VEVENT
END:VCALENDAR