BEGIN:VCALENDAR
VERSION:2.0
PRODID:-//eventon.com NONSGML v1.0//EN
CALSCALE:GREGORIAN
METHOD:PUBLISH
BEGIN:VEVENT
UID:69ecdd493af4c
DTSTAMP:20260425T152705Z
DTSTART:20241206T140000Z
DTEND:20250125T170000Z
LOCATION:KBH Marne Schillerstraße 11\,  25709 Marne
SUMMARY:Marne: INS BLAUE
DESCRIPTION:Blau\,  so heißt es\,  sei die beliebteste Farbe der westliche
 n Welt. Sie versetze uns in einen Zustand des Träumens\,  die Farbe stimme
  sehnsüchtig\,  sie wirke beruhigend und führe zu einer ernsthaften Sicht
  der Dinge nach innen. Vielleicht blicken wir deshalb so gern sehnsuchtsvol
 l hinaus aufs Meer. Andererseits steht das Blau[..]\nhttps://schleswig-hols
 tein.sh/blog/veranstaltungen/ins-blaue/
URL:https://schleswig-holstein.sh/blog/veranstaltungen/ins-blaue/
END:VEVENT
END:VCALENDAR