BEGIN:VCALENDAR
VERSION:2.0
PRODID:-//eventon.com NONSGML v1.0//EN
CALSCALE:GREGORIAN
METHOD:PUBLISH
BEGIN:VEVENT
UID:69ed8403b320f
DTSTAMP:20260426T031827Z
DTSTART:20250206T180000Z
DTEND:20250206T200000Z
LOCATION:Kaiser-Karl-Schule Itzehoe Hinter dem Sandberg 1-3\,  25524 Itzehoe
SUMMARY:Itzehoe: Johannesburg – von der Apartheidstadt zu einer Megacity Afrikas
DESCRIPTION:Südafrika durchläuft nach Beendigung der Apartheid Anfang der
  1990er Jahre eine umfassende Phase politischer und gesellschaftlicher Tran
 sformationen. Die damit verbundenen Herausforderungen\,  Erfolge und Rücks
 chläge werden anhand der Entwicklungen von Johannesburg fallbeispielhaft v
 orgestellt. Nicht nur wächst die Stadt in die Fläche und verschmilzt abse
 hbar mit Pretoria/Tshwane\,  sondern ist auch in ihren[..]\nhttps://schlesw
 ig-holstein.sh/blog/veranstaltungen/johannesburg-von-der-apartheidstadt-zu-
 einer-megacity-afrikas/
URL:https://schleswig-holstein.sh/blog/veranstaltungen/johannesburg-von-der-apartheidstadt-zu-einer-megacity-afrikas/
END:VEVENT
END:VCALENDAR