BEGIN:VCALENDAR
VERSION:2.0
PRODID:-//eventon.com NONSGML v1.0//EN
CALSCALE:GREGORIAN
METHOD:PUBLISH
BEGIN:VEVENT
UID:69e75dfbe7c37
DTSTAMP:20260421T112235Z
DTSTART:20250222T160000Z
DTEND:20250222T225900Z
LOCATION:St. Nicolai-Kirche Eckernförde Stadtmitte
SUMMARY:Eckernförde: 10. Int. Provinzlärm-Festival für Neue Musik
DESCRIPTION:Zum 10. Mal findet zwischen 21. und 23. Februar 2025 das Provin
 zlärm-Festival für Neue Musik im Ostseebad Eckernförde statt. In seiner 
 Jubiläumsausgabe richtet der Provinzlärm seinen Blick sowohl auf die Neue
  Musik im diesjährigen Fokusland Dänemark\,  als auch auf vergangene Län
 derschwerpunkte wie Polen und Schweden. Neben dem Ensemble in Residence[..]
 \nhttps://schleswig-holstein.sh/blog/veranstaltungen/10-int-provinzlaerm-fe
 stival-fuer-neue-musik/
URL:https://schleswig-holstein.sh/blog/veranstaltungen/10-int-provinzlaerm-festival-fuer-neue-musik/
END:VEVENT
END:VCALENDAR