BEGIN:VCALENDAR
VERSION:2.0
PRODID:-//eventon.com NONSGML v1.0//EN
CALSCALE:GREGORIAN
METHOD:PUBLISH
BEGIN:VEVENT
UID:69e75dfa0658c
DTSTAMP:20260421T112234Z
DTSTART:20250117T180000Z
DTEND:20250117T225900Z
LOCATION:Detlefsen-Museum im Brokdorff-Palais Am Fleth 43\,  25348 Glückstadt
SUMMARY:Glückstadt: Filmvorführung Stumpfe Sense – Scharfer Stahl; Bauern\,  Industrie und Nationalsozialismus
DESCRIPTION:Am 17. Januar wird im Detlefsen-Museum der Film „Stumpfe Sens
 e – scharfer Stahl“ gezeigt. Er handelt von der Landvolkbewegung und ih
 ren Protesten Ende der 20er Jahre des 20. Jahrhunderts. Parallelen zu 2024 
 sind unverkennbar – und deshalb ist der Film aktueller denn je.\nhttps://
 schleswig-holstein.sh/blog/veranstaltungen/filmvorfuehrung-stumpfe-sense-sc
 harfer-stahl-bauern-industrie-und-nationalsozialismus-dokumentarfilm-von-qu
 inka-stoehr-kay-ilfrich-jens-schmidtd-1990-detlefsen-museum-glueckstadt/
URL:https://schleswig-holstein.sh/blog/veranstaltungen/filmvorfuehrung-stumpfe-sense-scharfer-stahl-bauern-industrie-und-nationalsozialismus-dokumentarfilm-von-quinka-stoehr-kay-ilfrich-jens-schmidtd-1990-detlefsen-museum-glueckstadt/
END:VEVENT
END:VCALENDAR