BEGIN:VCALENDAR
VERSION:2.0
PRODID:-//eventon.com NONSGML v1.0//EN
CALSCALE:GREGORIAN
METHOD:PUBLISH
BEGIN:VEVENT
UID:69e772d8ddfbf
DTSTAMP:20260421T125136Z
DTSTART:20250208T180000Z
DTEND:20250208T225900Z
LOCATION:Stadttheater Flensburg Rathausstraße 22\,  24937 Flensburg
SUMMARY:DIE FLEDERMAUS
DESCRIPTION:„Glücklich ist\,  wer vergisst\,  was doch nicht zu ändern 
 ist.“ – Einer aber kann nicht vergessen: Doktor Falke\,  der in einem s
 o unbedachten wie missachtenden Streich nach einer durchzechten Nacht von s
 einem Freund Gabriel von Eisenstein hintergangen und als titelgebende Flede
 rmaus zum öffentlichen Gespött gemacht wurde. Wie wund der Punkt[..]\nhtt
 ps://schleswig-holstein.sh/blog/veranstaltungen/die-fledermaus/
URL:https://schleswig-holstein.sh/blog/veranstaltungen/die-fledermaus/
END:VEVENT
END:VCALENDAR