BEGIN:VCALENDAR
VERSION:2.0
PRODID:-//eventon.com NONSGML v1.0//EN
CALSCALE:GREGORIAN
METHOD:PUBLISH
BEGIN:VEVENT
UID:69e775ba283b1
DTSTAMP:20260421T130354Z
DTSTART:20260517T080000Z
DTEND:20260517T150000Z
LOCATION:Museum Kunst der Westküste Hauptstraße 1\,  25938 Alkersum
SUMMARY:Alkersum: Internationaler Museumstag 2026
DESCRIPTION:Anlässlich dieses Tages bietet das Museum Kunst der Westküste
  am Sonntag\,  dem 17. Mai 2026\,  ganztägig freien Eintritt zu den Ausste
 llungen „Inselhopping – Föhr\,  Amrum\,  Sylt und Helgoland in Malerei
  und Fotografie sowie Maritime Revolutionen – Das Internationale Maritime
  Museum Hamburg zu Gast im MKdW. Es werden kostenfreie kurze Führungen[..]
 \nhttps://schleswig-holstein.sh/blog/veranstaltungen/alkersum-international
 er-museumstag-2025/
URL:https://schleswig-holstein.sh/blog/veranstaltungen/alkersum-internationaler-museumstag-2025/
END:VEVENT
END:VCALENDAR