BEGIN:VCALENDAR
VERSION:2.0
PRODID:-//eventon.com NONSGML v1.0//EN
CALSCALE:GREGORIAN
METHOD:PUBLISH
BEGIN:VEVENT
UID:69e64031694cf
DTSTAMP:20260420T150313Z
DTSTART:20260731T080000Z
DTEND:20260731T150000Z
LOCATION:Museum Kunst der Westküste Hauptstraße 1\,  25938 Alkersum
SUMMARY:Alkersum: 17 Jahre MKdW
DESCRIPTION:Das Museum Kunst der Westküste wird 17 Jahre alt! Am Donnersta
 g\,  31. Juli 2026\,  heißt es von 10 bis 17 Uhr wieder „Happy Birthday 
 MKdW”! Das Museum feiert Geburtstag und lädt zu einem abwechslungsreiche
 n Programm ein. Neben Kurzführungen durch die Ausstellungen sowie zur Arch
 itektur und Geschichte des Museums erwartet die[..]\nhttps://schleswig-hols
 tein.sh/blog/veranstaltungen/alkersum-16-jahre-mkdw/
URL:https://schleswig-holstein.sh/blog/veranstaltungen/alkersum-16-jahre-mkdw/
END:VEVENT
END:VCALENDAR