BEGIN:VCALENDAR
VERSION:2.0
PRODID:-//eventon.com NONSGML v1.0//EN
CALSCALE:GREGORIAN
METHOD:PUBLISH
BEGIN:VEVENT
UID:69eb8146d9d97
DTSTAMP:20260424T144214Z
DTSTART:20250118
DTEND:20250119
LOCATION:Galerie RAINER GRÖSCHL Holtenauer Straße 59\,  24105 Kiel
SUMMARY:Kiel: "Cut from Clarity" ​ STEPHANIE JACOBS   KARIM REYLE​
DESCRIPTION:Ein Stück Klarheit Stephanie Jacobs arbeitet mir Keramik und M
 alerei. Karim Reyle druckt kleine und große Farbholzschnitte. In der Ausst
 ellung trägt das Künstlerpaar aus den letzten Jahren entstandene Arbeiten
  zusammen. Stephanie und Karim schaffen Kunst (wenn diese mit den Worten Ne
 ugier\,  Zärtlichkeit und Humor übersetzt werden kann) um zu lernen.[..]\
 nhttps://schleswig-holstein.sh/blog/veranstaltungen/kiel-cut-from-clarity-s
 tephanie-jacobs-karim-reyle/
URL:https://schleswig-holstein.sh/blog/veranstaltungen/kiel-cut-from-clarity-stephanie-jacobs-karim-reyle/
END:VEVENT
END:VCALENDAR