BEGIN:VCALENDAR
VERSION:2.0
PRODID:-//eventon.com NONSGML v1.0//EN
CALSCALE:GREGORIAN
METHOD:PUBLISH
BEGIN:VEVENT
UID:69e773bd21a6e
DTSTAMP:20260421T125525Z
DTSTART:20250201T160000Z
DTEND:20250201T173000Z
LOCATION:Galerie 11\,  Itzehoe Breitenburger Straße 1\,  25524 Itzehoe
SUMMARY:Itzehoe: 99 Multiples - Ausstellungseröffnung
DESCRIPTION:In der ersten Ausstellung des Jahres 2025 widmet sich die Galer
 ie der Gattung der Multiples\,  künstlerischen Objekten in einer eher klei
 nen Auflage mit einer übergreifenden Idee\,  und präsentiert 25 zeitgenö
 ssische Positionen des Landes. Dabei gibt es kein Original und jeweilige Ko
 pien\,  sondern eine serielle Fertigung gleichwertiger Exemplare. Als Verfa
 hren eignen[..]\nhttps://schleswig-holstein.sh/blog/veranstaltungen/99-mult
 iples-ausstellungseroeffnung/
URL:https://schleswig-holstein.sh/blog/veranstaltungen/99-multiples-ausstellungseroeffnung/
END:VEVENT
END:VCALENDAR