BEGIN:VCALENDAR
VERSION:2.0
PRODID:-//eventon.com NONSGML v1.0//EN
CALSCALE:GREGORIAN
METHOD:PUBLISH
BEGIN:VEVENT
UID:69ecf678b11df
DTSTAMP:20260425T171432Z
DTSTART:20250207T183000Z
DTEND:20250207T190000Z
LOCATION:Online über Zoom
SUMMARY:ONLINE: MärchenZeitfür nachtschwärmer
DESCRIPTION:&#8230;gemütlich auf dem Sofa sitzen\,  eine Kerze erhellt dei
 n Zuhause\,  Ruhe kehrt ein und jetzt beginnt für dich live im Video-Meeti
 ng über Zoom deine MärchenZeit. Die Märchenerzählerin Sigrid Nolte Sche
 fold erzählt &#8222;Märchen voll Wunder und Weisheit &#8222; &#8211; Laus
 che den Märchen und dein Herz beginnt zu lächeln &#8211;\nhttps://schlesw
 ig-holstein.sh/blog/veranstaltungen/maerchenzeitfuer-nachtschwaermer/
URL:https://schleswig-holstein.sh/blog/veranstaltungen/maerchenzeitfuer-nachtschwaermer/
END:VEVENT
END:VCALENDAR