BEGIN:VCALENDAR
VERSION:2.0
PRODID:-//eventon.com NONSGML v1.0//EN
CALSCALE:GREGORIAN
METHOD:PUBLISH
BEGIN:VEVENT
UID:69ecc23ac5ff5
DTSTAMP:20260425T133138Z
DTSTART:20250321T180000Z
DTEND:20250321T190000Z
LOCATION:Café Jetzt Nordertor Norderstr. 134\,  24939 Flensburg
SUMMARY:Flensburg: MärchenZeit am Weltgeschichtentag
DESCRIPTION:Seit 21 Jahren steht dieser Tag weltweit dafür\,  Geschichten 
 frei zu erzählen. Ziel des International World Storytelling Day ist es\,  
 die Kunst des mündlichen Erzählens zu feiern. Das Motto lautet in diesem 
 Jahr: &#8222;Deep Water &#8211; Tiefe Wasser&#8220; Am 20.03.2025 von 19.00
  Uhr &#8211; 20.00 Uhr.\nhttps://schleswig-holstein.sh/blog/veranstaltungen
 /maerchenzeit-am-weltgeschichtentag/var/ri-1.l-L1
URL:https://schleswig-holstein.sh/blog/veranstaltungen/maerchenzeit-am-weltgeschichtentag/var/ri-1.l-L1
END:VEVENT
END:VCALENDAR