BEGIN:VCALENDAR
VERSION:2.0
PRODID:-//eventon.com NONSGML v1.0//EN
CALSCALE:GREGORIAN
METHOD:PUBLISH
BEGIN:VEVENT
UID:69eb7d20f1a78
DTSTAMP:20260424T142432Z
DTSTART:20250316T150000Z
DTEND:20250316T225900Z
LOCATION:Künstlerhaus Lauenburg Elbstrasse 54\,  21481 Lauenburg
SUMMARY:Lauenburg:  „Datum Peak – eine Expedition“ - HITZE - Lesung mit Hanne Römer
DESCRIPTION:Das Künstlerhaus Lauenburg präsentiert das Projekt der Wahlwi
 enerin Hanne Römer „Datum Peak – eine Expedition durch die/.aufzeichne
 nsysteme der Forscherin“. Die Ausstellung der ehemaligen Stipendiatin des
  Künstlerhaus Lauenburg\,  die jedes Jahr einige Monate in Lauenburg verbr
 ingt\,  zeigt eine Fülle von Materialien\,  Federzeichnungen\,  Texte und 
 Fundstücke in wachsenden Rauminstallationen \,  anknüpfend an[..]\nhttps:
 //schleswig-holstein.sh/blog/veranstaltungen/lauenburg-datum-peak-eine-expe
 dition-hitze-lesung-mit-hanne-roemer/
URL:https://schleswig-holstein.sh/blog/veranstaltungen/lauenburg-datum-peak-eine-expedition-hitze-lesung-mit-hanne-roemer/
END:VEVENT
END:VCALENDAR