BEGIN:VCALENDAR
VERSION:2.0
PRODID:-//eventon.com NONSGML v1.0//EN
CALSCALE:GREGORIAN
METHOD:PUBLISH
BEGIN:VEVENT
UID:69ecf6a9be574
DTSTAMP:20260425T171521Z
DTSTART:20250320T183000Z
DTEND:20250320T203000Z
LOCATION:Haus Eden Königstraße 25\,  23552 Lübeck
SUMMARY:Offene Erzählbühne zum Weltgeschichtentag
DESCRIPTION:Do. 20. März\,  19:30 Uhr\,  Festsaal\,  Haus EDEN\,  Königst
 raße 25\,  23552 Lübeck Jeder\,  der will\,  darf auf die Bühne und eine
  Geschichte erzählen. Offene Bühne für Laien und professionelle Erzähle
 r. Nur mit Anmeldung: Bernstein@dernordenerzaehlt.de Zuhörer sind herzlich
  eingeladen Eintritt frei\nhttps://schleswig-holstein.sh/blog/veranstaltung
 en/9-erzaehlkunstfestival-zu-luebeck-der-norden-erzaehlt-7/
URL:https://schleswig-holstein.sh/blog/veranstaltungen/9-erzaehlkunstfestival-zu-luebeck-der-norden-erzaehlt-7/
END:VEVENT
END:VCALENDAR