BEGIN:VCALENDAR
VERSION:2.0
PRODID:-//eventon.com NONSGML v1.0//EN
CALSCALE:GREGORIAN
METHOD:PUBLISH
BEGIN:VEVENT
UID:69e7489a38ddf
DTSTAMP:20260421T095122Z
DTSTART:20250228T140000Z
DTEND:20250323T170000Z
LOCATION:Galerie Brennwald Hardenbergstraße 20\,  24105 Kiel
SUMMARY:Kiel: POETIS MENTIRI LICET
DESCRIPTION:Die Berliner Künstlerin Andrea Damp spielt virtuos mit Abstrak
 tion und Gegenständlichkeit\,  mit Realität und Traum. In ihren Gemälden
  zeigt sie fremdartige\,  geheimnisvolle Welten\,  die Rätsel aufgeben. Un
 verkennbar ist ihre Lust\,  Geschichten zu erzählen. Dabei liefert sie imm
 er nur den Anfang\,  führt die Betrachtenden auf einen Weg und lädt sie e
 in\, [..]\nhttps://schleswig-holstein.sh/blog/veranstaltungen/poetis-mentir
 i-licet/
URL:https://schleswig-holstein.sh/blog/veranstaltungen/poetis-mentiri-licet/
END:VEVENT
END:VCALENDAR