BEGIN:VCALENDAR
VERSION:2.0
PRODID:-//eventon.com NONSGML v1.0//EN
CALSCALE:GREGORIAN
METHOD:PUBLISH
BEGIN:VEVENT
UID:69ecb536d7bbe
DTSTAMP:20260425T123606Z
DTSTART:20250323T100000Z
DTEND:20250323T130000Z
LOCATION:Kulturinitiative Toweddern Hultschiner Str.43 24146 Kiel
SUMMARY:Kiel: HERZINTUITION & KREATIVES SCHREIBEN
DESCRIPTION:Kreatives Schreiben fördert in uns sowohl die Intuition\,  als
  auch das Herz. Schreiben wir mit unser Intuition aus dem Herzen heraus\,  
 dann fühlt es sich an\,  wie im eigenen Strom der Worte und Bilder zu trei
 ben\,  neue Ufer zu entdecken und aufregende Abenteuer zu erleben. Es ist w
 ie eine Erlaubnis\, [..]\nhttps://schleswig-holstein.sh/blog/veranstaltunge
 n/herzintuition-kreatives-schreiben/
URL:https://schleswig-holstein.sh/blog/veranstaltungen/herzintuition-kreatives-schreiben/
END:VEVENT
END:VCALENDAR