BEGIN:VCALENDAR
VERSION:2.0
PRODID:-//eventon.com NONSGML v1.0//EN
CALSCALE:GREGORIAN
METHOD:PUBLISH
BEGIN:VEVENT
UID:69eb62a9bef15
DTSTAMP:20260424T123137Z
DTSTART:20250321
DTEND:20250322
LOCATION:Erlebnis-Seebrücke Heiligenhafen Seebrückenpromenade\,  23774 Heiligenhafen
SUMMARY:Heiligenhafen: POE/SIE FESTIVAL #2
DESCRIPTION:Das POE/SIE FESTIVAL #2 wird auf der Seebrücke von Heiligenhaf
 en stattfinden. Für zwei Tage wird der rundum verglaste Schutzraum der See
 brücke zum Salon für POE/SIE. Thema:&nbsp;LOVELove – so trivial wie ewi
 g unergründlich. Von der Hochkultur bis zur Popkultur; vereinnahmt\,  bear
 beitet und doch nur vermeintlich „abgearbeitet“. Ob Liebe als phänomen
 ologische Erscheinung\, [..]\nhttps://schleswig-holstein.sh/blog/veranstalt
 ungen/heiligenhafen-poe-sie-festival-2/
URL:https://schleswig-holstein.sh/blog/veranstaltungen/heiligenhafen-poe-sie-festival-2/
END:VEVENT
END:VCALENDAR