BEGIN:VCALENDAR
VERSION:2.0
PRODID:-//eventon.com NONSGML v1.0//EN
CALSCALE:GREGORIAN
METHOD:PUBLISH
BEGIN:VEVENT
UID:69e74bad43f24
DTSTAMP:20260421T100429Z
DTSTART:20250305T150000Z
DTEND:20250305T150000Z
LOCATION:Stadtpark Flensburg Engang Roonstraße unter dem großen Baum
SUMMARY:Flensburg: MärchenZeit im Stadtpark
DESCRIPTION:Glück finden &#8211; wo versteckt es sich? Was ist Glück? Kom
 mt ers von allein oder müssen wir es suchen? Und wenn es da ist\,  können
  wir es erkennen und auch behalten? Viele Fragen zum Glück &#8211; die Mä
 rchen verraten uns so allerlei. Die Märchenerzählerin Sigrid Nolte Schefo
 ld erzählt Märchen aus[..]\nhttps://schleswig-holstein.sh/blog/veranstalt
 ungen/maerchenzeit-im-stadtpark-2/
URL:https://schleswig-holstein.sh/blog/veranstaltungen/maerchenzeit-im-stadtpark-2/
END:VEVENT
END:VCALENDAR