BEGIN:VCALENDAR
VERSION:2.0
PRODID:-//eventon.com NONSGML v1.0//EN
CALSCALE:GREGORIAN
METHOD:PUBLISH
BEGIN:VEVENT
UID:69e5dd8c92a30
DTSTAMP:20260420T080220Z
DTSTART:20250321T170000Z
DTEND:20250321T180000Z
LOCATION:Papa Tom's Café Schinderdam 7 / Glücksburger Hof
SUMMARY:Flensburg: Märchenzeit am Weltgeschichtentag
DESCRIPTION:Seit 21 Jahren steht dieser Tag weltweit dafür\,  Geschichten 
 frei zu erzählen. Ziel des International World Storytelling Day ist es\,  
 die Kunst des mündlichen Erzählens zu feiern.Das Motto lautet in diesem J
 ahr: &#8222;Deep Water &#8211; Tiefe Wasser&#8220;  \nhttps://schleswig-ho
 lstein.sh/blog/veranstaltungen/flensburg-maerchenzeit-am-weltgeschichtentag
 /
URL:https://schleswig-holstein.sh/blog/veranstaltungen/flensburg-maerchenzeit-am-weltgeschichtentag/
END:VEVENT
END:VCALENDAR