BEGIN:VCALENDAR
VERSION:2.0
PRODID:-//eventon.com NONSGML v1.0//EN
CALSCALE:GREGORIAN
METHOD:PUBLISH
BEGIN:VEVENT
UID:69e7c622095cb
DTSTAMP:20260421T184658Z
DTSTART:20250508T160000Z
DTEND:20250508T164500Z
LOCATION:Liegehalle im Kurpark Malente (Treffpunkt) Bahnhofstraße 4\,  23714 Bad Malente-Gremsmühlen
SUMMARY:International Style im Kurpark Malente: Naturgestaltung und Baukunst – eine Symbiose mit Mehrwert
DESCRIPTION:Als Einstimmung zu den Vorträgen im Kursaal (ab 19 Uhr) lädt 
 der Verein der Freunde des Kurparks zu einem &#8222;Gang um die Kurparkhäu
 ser&#8220; ein\,  um deren geniale Einbettung in die Topografie und Naturge
 staltung des Kurparks erfahrbar zu machen. Die in deutschen Kurparks einzig
 artige Bebauung ist ein Ergebnis der kreativen Zusammenarbeit[..]\nhttps://
 schleswig-holstein.sh/blog/veranstaltungen/international-style-im-kurpark-m
 alente-naturgestaltung-und-baukunst-eine-symbiose-mit-mehrwert-2/
URL:https://schleswig-holstein.sh/blog/veranstaltungen/international-style-im-kurpark-malente-naturgestaltung-und-baukunst-eine-symbiose-mit-mehrwert-2/
END:VEVENT
END:VCALENDAR