BEGIN:VCALENDAR
VERSION:2.0
PRODID:-//eventon.com NONSGML v1.0//EN
CALSCALE:GREGORIAN
METHOD:PUBLISH
BEGIN:VEVENT
UID:69e75e0416862
DTSTAMP:20260421T112244Z
DTSTART:20250322T100000Z
DTEND:20250322T150000Z
LOCATION:Stadtmuseum Schleswig Friedrichstraße  9–11\,  24837 Schleswig
SUMMARY:Schleswig: Druckworkshop »Plakate und Gedanken« im Stadtmuseum
DESCRIPTION:Gemeinsam mit der Druckgrafikerin Angeline Schube-Focke M.A. un
 d dem ehrenamtlichen Team der Druckerei gestalten die Teilnehmer*innen Plak
 ate in unterschiedlichen Formaten. Für die Gestaltung können alte Holzbuc
 hstaben und Bleisatzelemente genutzt werden. Mit selbst gestalteten Linolsc
 hnitt-Stempeln können Muster und Symbole hinzugefügt werden. Die Teilnehm
 er*innen sollten im Voraus Ideen und Gedanken für die[..]\nhttps://schlesw
 ig-holstein.sh/blog/veranstaltungen/druckworkshop-plakate-und-gedanken-im-s
 tadtmuseum-schleswig/
URL:https://schleswig-holstein.sh/blog/veranstaltungen/druckworkshop-plakate-und-gedanken-im-stadtmuseum-schleswig/
END:VEVENT
END:VCALENDAR