BEGIN:VCALENDAR
VERSION:2.0
PRODID:-//eventon.com NONSGML v1.0//EN
CALSCALE:GREGORIAN
METHOD:PUBLISH
BEGIN:VEVENT
UID:69eb7d6d810a2
DTSTAMP:20260424T142549Z
DTSTART:20250324
DTEND:20250325
LOCATION:Galerie Tobien Neustadt 8-10\,  25813 Husum
SUMMARY:Husum: Informell - Freiheit für die Kunst
DESCRIPTION:Die Ausstellung zeigt informelle Kunst im Spannungsfeld von kon
 struktiv-abstrakter Kunst der Gegenwart. Präsentiert wird Malerei\,  Grafi
 k\,  Enkaustik\,  dreidimensionale Papierobjekte und Objekte aus Epoxidharz
 . In der Ausstellung sind Ralf Bohnenkamp\,  Osmund Hansen\,  Manfred Jung\
 ,  Jan Kolata\,  Malene Landgreen\,  Gabriele Mierzwa\,  Klaus Ulfert Riege
 r und Krista Rosenkilde vertreten. In den 1950er Jahren[..]\nhttps://schles
 wig-holstein.sh/blog/veranstaltungen/husum-informell-freiheit-fuer-die-kuns
 t/
URL:https://schleswig-holstein.sh/blog/veranstaltungen/husum-informell-freiheit-fuer-die-kunst/
END:VEVENT
END:VCALENDAR