BEGIN:VCALENDAR
VERSION:2.0
PRODID:-//eventon.com NONSGML v1.0//EN
CALSCALE:GREGORIAN
METHOD:PUBLISH
BEGIN:VEVENT
UID:69e789c96287a
DTSTAMP:20260421T142929Z
DTSTART:20250508T060500Z
DTEND:20250508T215900Z
LOCATION:Stadthalle Neumünster Kleinflecken 1\,  24534 Neumünster
SUMMARY:Neumünster: Eröffnungsgala Theaterfestival op Platt 2025
DESCRIPTION:Das Theaterfestival op Platt (8.-18. Mai 2025) startet mit eine
 r großen Eröffnungsgala am 8. Mai um 19.30 Uhr im Theater in der Stadthal
 le Neumünster. Wieder einmal darf sich Plattdeutschland auf Musiktheater\,
   Schauspiel\,  Comedy und Sketche freuen\,  präsentiert von den verschied
 enen Bühnen des Niederdeutschen Bühnenbundes. Ganz nach dem Motto „Thea
 ter is[..]\nhttps://schleswig-holstein.sh/blog/veranstaltungen/eroeffnungsg
 ala-theaterfestival-op-platt-2025/
URL:https://schleswig-holstein.sh/blog/veranstaltungen/eroeffnungsgala-theaterfestival-op-platt-2025/
END:VEVENT
END:VCALENDAR