BEGIN:VCALENDAR
VERSION:2.0
PRODID:-//eventon.com NONSGML v1.0//EN
CALSCALE:GREGORIAN
METHOD:PUBLISH
BEGIN:VEVENT
UID:69ed3da844b67
DTSTAMP:20260425T221816Z
DTSTART:20250508T063700Z
DTEND:20250518T063700Z
LOCATION:
SUMMARY:Theaterfestival op Platt 2025
DESCRIPTION:Vom 8.-18. Mai 2025 präsentiert der Niederdeutsche Bühnenbund
  Schleswig-Holstein e.V. zum zweiten Mal das Theaterfestival op Platt. Das 
 Festival startet mit einer großen Eröffnungsgala am 8. Mai um 19.30 Uhr i
 m Theater in der Stadthalle Neumünster. Wieder einmal darf sich Plattdeuts
 chland auf Musiktheater\,  Schauspiel\,  Comedy und Sketche freuen\,  präs
 entiert von[..]\nhttps://schleswig-holstein.sh/blog/veranstaltungen/theater
 festival-op-platt-2025/
URL:https://schleswig-holstein.sh/blog/veranstaltungen/theaterfestival-op-platt-2025/
END:VEVENT
END:VCALENDAR