BEGIN:VCALENDAR
VERSION:2.0
PRODID:-//eventon.com NONSGML v1.0//EN
CALSCALE:GREGORIAN
METHOD:PUBLISH
BEGIN:VEVENT
UID:69ecc36dd0f66
DTSTAMP:20260425T133645Z
DTSTART:20250419T152800Z
DTEND:20250420T152800Z
LOCATION:Kunstatelier 24395 Rabenholz
SUMMARY:Offene Ateliers in Rabenholz
DESCRIPTION:Zu Ostern laden zwei Künstler/innen in Rabenholz zu einem Besu
 ch in ihre Ateliers ein. Thomas Stribick\,  Dorfstraße. 14\,  und Astrid H
 übbe\,  Dorfstraße 24\,  freuen sich auf viele Besucher\,  die in ihre We
 rkstätten blicken wollen. In den zwei Ateliers gibt es viel zu entdecken u
 nd jeweilige Ausstellungen vermitteln einen Einblick in[..]\nhttps://schles
 wig-holstein.sh/blog/veranstaltungen/offene-ateliers-in-rabenholz/
URL:https://schleswig-holstein.sh/blog/veranstaltungen/offene-ateliers-in-rabenholz/
END:VEVENT
END:VCALENDAR