BEGIN:VCALENDAR
VERSION:2.0
PRODID:-//eventon.com NONSGML v1.0//EN
CALSCALE:GREGORIAN
METHOD:PUBLISH
BEGIN:VEVENT
UID:69e63da508986
DTSTAMP:20260420T145221Z
DTSTART:20250406T120000Z
DTEND:20250406T150000Z
LOCATION:Nolde Museum Seebüll\,  Seebüll 31\,  25927 Neukirchen Film- und Vortragsaal im Besucherforum (1. Stock)
SUMMARY:Neukirchen: Malkurs „Frühling in Seebüll“
DESCRIPTION:Sonntag\,  6. April 2025\,  14 – 17 Uhr Wir lassen uns auf ei
 nem Spaziergang durch Noldes Garten von den Farben des Frühlings inspirier
 en und malen mit farbenprächtigen Aquarellfarben auf besonderen Seidenpapi
 eren ein eigenes\,  freiinterpretiertes Blumenmotiv. Leitung: Martina Reini
 g-Kirchhoff Kurskosten (inkl. Museumseintritt und Material): Erwachsene 50 
 € Kinder (ab 6 Jahren)\, [..]\nhttps://schleswig-holstein.sh/blog/veranst
 altungen/neukirchen-malkurs-fruehling-in-seebuell/
URL:https://schleswig-holstein.sh/blog/veranstaltungen/neukirchen-malkurs-fruehling-in-seebuell/
END:VEVENT
END:VCALENDAR