BEGIN:VCALENDAR
VERSION:2.0
PRODID:-//eventon.com NONSGML v1.0//EN
CALSCALE:GREGORIAN
METHOD:PUBLISH
BEGIN:VEVENT
UID:69e7461c80347
DTSTAMP:20260421T094044Z
DTSTART:20250410T170000Z
DTEND:20250410T215900Z
LOCATION:Palais Quasi non Possidentes Am Hafen 46\,  Glückstadt
SUMMARY:Glückstadt: Hyun-Sook Song\,  Arbeiten aus einer Privatsammlung- KunstSprechStunde
DESCRIPTION:Hyun-Sook Song\,  die einige Jahre in Herzhorn bei Glückstadt 
 lebte\,  kehrt für diese Ausstellung in die Elbmarsch zurück. Ihre Gemäl
 de erzählen eigene und fremde Geschichten über Natur\,  Identität und Er
 innerungen\,  die von Song mit nur wenigen Pinselstrichen auf die Leinwand 
 gebracht werden und in ihrer Vollendung gegenständliche und figürliche As
 soziationen[..]\nhttps://schleswig-holstein.sh/blog/veranstaltungen/hyun-so
 ok-song-arbeiten-aus-einer-privatsammlung-kunstsprechstunde/
URL:https://schleswig-holstein.sh/blog/veranstaltungen/hyun-sook-song-arbeiten-aus-einer-privatsammlung-kunstsprechstunde/
END:VEVENT
END:VCALENDAR