BEGIN:VCALENDAR
VERSION:2.0
PRODID:-//eventon.com NONSGML v1.0//EN
CALSCALE:GREGORIAN
METHOD:PUBLISH
BEGIN:VEVENT
UID:69e75dff50615
DTSTAMP:20260421T112239Z
DTSTART:20250509T173000Z
DTEND:20250509T215900Z
LOCATION:Slesvighus Lollfuß 89\,  Schleswig\,  Schleswig-Holstein 24837\,  Deutschland
SUMMARY:4. KAMMERKONZERT
DESCRIPTION:Ravi Shankar&nbsp;(1920–2012)„L‘aube enchantée sur le Ra
 ga Todi“ für Flöte und Gitarre Jean-Michel Damase&nbsp;(1928–2003)Qui
 ntett für Flöte\,  Harfe\,  Violine\,  Viola und Violoncello op. 2 Guilla
 ume Connesson&nbsp;(*1970)„Le Rire de Saraï“ für Flöte und Klavier D
 mitri Schostakowitsch&nbsp;(1906–1975)Streichquartett Nr. 8 c-Moll op. 11
 0\nhttps://schleswig-holstein.sh/blog/veranstaltungen/4-kammerkonzert/
URL:https://schleswig-holstein.sh/blog/veranstaltungen/4-kammerkonzert/
END:VEVENT
END:VCALENDAR