BEGIN:VCALENDAR
VERSION:2.0
PRODID:-//eventon.com NONSGML v1.0//EN
CALSCALE:GREGORIAN
METHOD:PUBLISH
BEGIN:VEVENT
UID:69e760be5f8a6
DTSTAMP:20260421T113422Z
DTSTART:20250628
DTEND:20250629
LOCATION:Schloss Eutin Schlossplatz 5\,  23701 Eutin
SUMMARY:Lebendige Geschichte
DESCRIPTION:Wie sah im 18. Jahrhundert ein Sommertag im Schloss Eutin aus? 
 Über 30 Living History-Darstellerinnen und Darsteller in historisch getreu
 en Kostümen erwecken die einstige Sommerresidenz zum Leben. Hofdame\,  Mod
 istin\,  Marzipanbäcker\,  Buchbinderin\,  Stoffhändler und viele mehr ze
 igen Mode\,  zaubern\,  lesen vor und zeigen ihre Gewerke. Fragen sind jede
 rzeit willkommen!\nhttps://schleswig-holstein.sh/blog/veranstaltungen/leben
 dige-geschichte/
URL:https://schleswig-holstein.sh/blog/veranstaltungen/lebendige-geschichte/
END:VEVENT
END:VCALENDAR