BEGIN:VCALENDAR
VERSION:2.0
PRODID:-//eventon.com NONSGML v1.0//EN
CALSCALE:GREGORIAN
METHOD:PUBLISH
BEGIN:VEVENT
UID:69e748ce7bcd3
DTSTAMP:20260421T095214Z
DTSTART:20250525T170000Z
DTEND:20250525T215900Z
LOCATION:Kurhaustheater Bad Bramstedt Oskar-Alexander-Straße 26\,  24576 Bad Bramstedt
SUMMARY:Bad Bramstedt: Brodowy & Momsen
DESCRIPTION:Herr Momsen hat ein neues Hobby: In seiner Freizeit kümmert er
  sich um den kleinen Leuchtturm auf der Hallig Dröge. Kurz vor einer schwe
 ren Sturmflut begegnet er einem verzweifelten Mann in schickem Anzug: Der M
 anager einer großen Consulting-Firma hängt nach einem „Breathe-in-and-o
 ut“-Seminar auf dem Eiland fest. Morgen soll er einen[..]\nhttps://schles
 wig-holstein.sh/blog/veranstaltungen/brodowy-momsen/
URL:https://schleswig-holstein.sh/blog/veranstaltungen/brodowy-momsen/
END:VEVENT
END:VCALENDAR