BEGIN:VCALENDAR
VERSION:2.0
PRODID:-//eventon.com NONSGML v1.0//EN
CALSCALE:GREGORIAN
METHOD:PUBLISH
BEGIN:VEVENT
UID:69e7374c9c465
DTSTAMP:20260421T083732Z
DTSTART:20250622T150000Z
DTEND:20250622T180000Z
LOCATION:Kolumbarium DIE EICHE An der Untertrave 34 23552 Lübeck
SUMMARY:Lübeck: Kosmos - Ordnung und Zerstörung. Die Genesis als antike Weltliteratur
DESCRIPTION:Podiumsgespräch mit Professor Hans-Ulrich Weidemann\,  Bibelwi
 ssenschaftler an der Universität Siegen sowie Andreas Hutzel und Steffen K
 ubach vom Ensemble des Lübecker Theaters. Wenn Menschen in der Antike ihre
  Welt als Kosmos bezeichnen\,  dann formulieren sie eine be-stimmte Sicht\,
   einen bestimmten Blickwinkel\,  vor allem aber auch den für sie wichtigs
 ten Aspekt\,  nämlich[..]\nhttps://schleswig-holstein.sh/blog/veranstaltun
 gen/kosmos-ordnung-und-zerstoerung-die-genesis-als-antike-weltliteratur/
URL:https://schleswig-holstein.sh/blog/veranstaltungen/kosmos-ordnung-und-zerstoerung-die-genesis-als-antike-weltliteratur/
END:VEVENT
END:VCALENDAR