BEGIN:VCALENDAR
VERSION:2.0
PRODID:-//eventon.com NONSGML v1.0//EN
CALSCALE:GREGORIAN
METHOD:PUBLISH
BEGIN:VEVENT
UID:69e63da3167a8
DTSTAMP:20260420T145219Z
DTSTART:20250530T180000Z
DTEND:20250530T190000Z
LOCATION:Seebrücke Kellenhusen Strandpromenade 37\,  23746 Kellenhusen (Ostsee)
SUMMARY:Kellenhusen: Bosche erzählt - Frühling
DESCRIPTION:30. Mai &#8211; &#8222;Frühling lässt sein blaues Band&#8220;
  Frühling ist die schöne Jahreszeit\,  in der der Winterschlaf aufhört u
 nd die Frühjahrsmüdigkeit beginnt. (Emanuel Geibel) Theater des Wortes am
  Strand „Frühling lässt sein blaues Band …“ Kellenhusen: Am Freitag
  den 30. Mai um 20:0 Uhr verwandelt sich der Strand in eine[..]\nhttps://sc
 hleswig-holstein.sh/blog/veranstaltungen/bosche-erzaehlt-fruehling/
URL:https://schleswig-holstein.sh/blog/veranstaltungen/bosche-erzaehlt-fruehling/
END:VEVENT
END:VCALENDAR