BEGIN:VCALENDAR
VERSION:2.0
PRODID:-//eventon.com NONSGML v1.0//EN
CALSCALE:GREGORIAN
METHOD:PUBLISH
BEGIN:VEVENT
UID:69e75f03171e1
DTSTAMP:20260421T112659Z
DTSTART:20250716T160000Z
DTEND:20250716T180000Z
LOCATION:Dithmarscher Landesmuseum BÃ¼tjestraÃŸe 2-4\,  25704 Meldorf
SUMMARY:Meldorf: Blues Bandits
DESCRIPTION:Die Blues Bandits stehen fÃ¼r soliden Blues Rock und Musik\,  d
 ie ins Blut geht. Unbekanntere StÃ¼cke zum HÃ¶ren mit ausgefeilten Arrangem
 ents und bekanntere StÃ¼cke\,  die zum Mittanzen einladen\,  lÃ¶sen sich da
 bei ab. Am meisten fÃ¤llt auf\,  dass wir einfach SpaÃŸ haben\,  auf der BÃ
 ¼hne zu stehen und Musik fÃ¼r unser[..]\nhttps://schleswig-holstein.sh/blog
 /veranstaltungen/meldorfer-kulturbonsche-6/
URL:https://schleswig-holstein.sh/blog/veranstaltungen/meldorfer-kulturbonsche-6/
END:VEVENT
END:VCALENDAR