BEGIN:VCALENDAR
VERSION:2.0
PRODID:-//eventon.com NONSGML v1.0//EN
CALSCALE:GREGORIAN
METHOD:PUBLISH
BEGIN:VEVENT
UID:69e748c809c8f
DTSTAMP:20260421T095208Z
DTSTART:20250711T183000Z
DTEND:20250711T215900Z
LOCATION:Speicher Husum Hafenstraße 17\,  25813 Husum
SUMMARY:Husum: Kate Clover
DESCRIPTION:Kate Clover ist eine explosive Musikerin und Songschreiberin au
 s Los Angeles\,  inspiriert von der rauen Energie der Stadt. Mit einer Band
  aus wilden Jungs liefert sie kraftvolle Punkmusik\,  die von Selbstfindung
  und dem Überleben in der Stadt der Träume handelt. 2023 erlangte sie Auf
 merksamkeit als aufstrebender Star der Punk-Underground-Szene und[..]\nhttp
 s://schleswig-holstein.sh/blog/veranstaltungen/kate-clover/
URL:https://schleswig-holstein.sh/blog/veranstaltungen/kate-clover/
END:VEVENT
END:VCALENDAR