BEGIN:VCALENDAR
VERSION:2.0
PRODID:-//eventon.com NONSGML v1.0//EN
CALSCALE:GREGORIAN
METHOD:PUBLISH
BEGIN:VEVENT
UID:69e63d96cbc1b
DTSTAMP:20260420T145206Z
DTSTART:20251004T110000Z
DTEND:20251004T215900Z
LOCATION:Speicher Husum Hafenstraße 17\,  25813 Husum
SUMMARY:Husum: Husum Ahoi! Nr. 4
DESCRIPTION:Friedemann | Manier | Larrikins | Einsturz | Sonne Ost | Bernha
 rd Fuxx | Kodder | Sheep E Band\nhttps://schleswig-holstein.sh/blog/veranst
 altungen/husum-ahoi-nr-4/
URL:https://schleswig-holstein.sh/blog/veranstaltungen/husum-ahoi-nr-4/
END:VEVENT
END:VCALENDAR