BEGIN:VCALENDAR
VERSION:2.0
PRODID:-//eventon.com NONSGML v1.0//EN
CALSCALE:GREGORIAN
METHOD:PUBLISH
BEGIN:VEVENT
UID:69e75dfc7baa5
DTSTAMP:20260421T112236Z
DTSTART:20250518T090000Z
DTEND:20250518T103000Z
LOCATION:BELLA DONNA HAUS Bahnhofstraße 12\,  23843 Bad Oldesloe
SUMMARY:Bad Oldesloe: Vernissage von Bettina Gründel
DESCRIPTION:Bettina Gründel ist Bildhauerin und Malerin. In ihrer Ausstell
 ung im BELLA DONNA HAUS werden Werke aus ihrer Serie: „Klimakunst\,  Land
 schaften im Wandel“ gezeigt. Diese entstanden aus dem Wunsch\,  Landschaf
 ten zu malen\,  die in engem Bezug mit dem globalen oder regionalen Klima s
 tehen\,  um mehr Bewusstsein für diese besonderen Orte zu[..]\nhttps://sch
 leswig-holstein.sh/blog/veranstaltungen/vernissage-von-bettina-gruendel/
URL:https://schleswig-holstein.sh/blog/veranstaltungen/vernissage-von-bettina-gruendel/
END:VEVENT
END:VCALENDAR