BEGIN:VCALENDAR
VERSION:2.0
PRODID:-//eventon.com NONSGML v1.0//EN
CALSCALE:GREGORIAN
METHOD:PUBLISH
BEGIN:VEVENT
UID:69e74beb3bab6
DTSTAMP:20260421T100531Z
DTSTART:20250628T170000Z
DTEND:20250628T215900Z
LOCATION:Museumsberg Flensburg Reepschlägerbahn 26\,  24937 Flensburg
SUMMARY:HAUTNAH
DESCRIPTION:Im Sommer\,  kurz vor der Spielzeitpause\,  präsentiert Emil W
 edervang Bruland mit seiner Ballettcompagnie ein spannendes neues Format. E
 s setzt die Idee um\,  Tanz von der Bühne in den urbanen Raum zu bringen\,
   in einer ungewöhnlichen öffentlichen Umgebung hautnah und unmittelbar e
 rfahrbar zu machen. Tragendes Element ist die Improvisation\,  durch die[..
 ]\nhttps://schleswig-holstein.sh/blog/veranstaltungen/hautnah/
URL:https://schleswig-holstein.sh/blog/veranstaltungen/hautnah/
END:VEVENT
END:VCALENDAR