BEGIN:VCALENDAR
VERSION:2.0
PRODID:-//eventon.com NONSGML v1.0//EN
CALSCALE:GREGORIAN
METHOD:PUBLISH
BEGIN:VEVENT
UID:69e75dfe703c6
DTSTAMP:20260421T112238Z
DTSTART:20250813T140000Z
DTEND:20250813T153000Z
LOCATION:KBH Marne Schillerstraße 11\,  25709 Marne
SUMMARY:Dithmarscher KinderFerienFestival
DESCRIPTION:Inspiriert von ihrem kleinen Sohn singt die Kinderliedermacheri
 n Kat Wulff über schnaufende Eisenbahnen und knallbunte Elefanten\,  über
  Trotzanfälle und die Liebe zum Kuscheln. Auch die Frage nach dem „Wieso
  – Weshalb – Warum“ darf natürlich nicht fehlen. Zeitgemäße Arrang
 ements und eingängige Refrains bringen alle zum Mitsingen und Tanzen. Die 
 fantasievollen[..]\nhttps://schleswig-holstein.sh/blog/veranstaltungen/dith
 marscher-kinderferienfestival-8/
URL:https://schleswig-holstein.sh/blog/veranstaltungen/dithmarscher-kinderferienfestival-8/
END:VEVENT
END:VCALENDAR