BEGIN:VCALENDAR
VERSION:2.0
PRODID:-//eventon.com NONSGML v1.0//EN
CALSCALE:GREGORIAN
METHOD:PUBLISH
BEGIN:VEVENT
UID:69e789c54e2a5
DTSTAMP:20260421T142925Z
DTSTART:20250614T130000Z
DTEND:20250614T140000Z
LOCATION:Galerie RIECK Carlshöhe Carlshöhe 78 | 24340 Eckerförde
SUMMARY:Künstlerinnengespräch Nicole Keller
DESCRIPTION:Unter dem Motto „Meeresrausch“ präsentiert sich das „Kul
 turnetz Eckernförde“ mit unterschiedlichsten Veranstaltungen rund um das
  Thema „Meer“ &#8211; vom 13. bis zum 15.06. an verschiedenen Orten mit
  bunten Kunst- und Kulturangeboten und -events. Die Galerie RIECK auf der C
 arlshöhe ist natürlich dabei. Speziell für &#8222;Meeresrausch&#8220; gi
 bt es eine kleine Zusatzausstellung[..]\nhttps://schleswig-holstein.sh/blog
 /veranstaltungen/kuenstlerinnengespraech-nicole-keller/
URL:https://schleswig-holstein.sh/blog/veranstaltungen/kuenstlerinnengespraech-nicole-keller/
END:VEVENT
END:VCALENDAR