BEGIN:VCALENDAR
VERSION:2.0
PRODID:-//eventon.com NONSGML v1.0//EN
CALSCALE:GREGORIAN
METHOD:PUBLISH
BEGIN:VEVENT
UID:69e772891c855
DTSTAMP:20260421T125017Z
DTSTART:20250717T140000Z
DTEND:20250718T170000Z
LOCATION:Kunsttankstelle - Defacto Art e.V. Wallstrasse 3-5\,  23560 Lübeck
SUMMARY:SO IST DAS LEBEN EBEN – Gemeinschaftsausstellung
DESCRIPTION:So ist das Leben eben&#8230; Ausstellung mit Malerei\,  Skulptu
 ren und Collage Spontan haben sich fünf etablierte Künstler:innen zu dies
 er Ausstellung zusammengefunden &#8211; So ist es im Leben eben&#8230; &#82
 11; manchmal. Die Skulpturen von Ingrid Friedrichsen verzaubern den Betrach
 ter mit reichlich Witz und Charme. Sie korrespondieren ganz wunderbar mit d
 en Bauminterpretationen[..]\nhttps://schleswig-holstein.sh/blog/veranstaltu
 ngen/dunkelbunt-gemeinschaftsausstellung-von-jamoin-ev/
URL:https://schleswig-holstein.sh/blog/veranstaltungen/dunkelbunt-gemeinschaftsausstellung-von-jamoin-ev/
END:VEVENT
END:VCALENDAR