BEGIN:VCALENDAR
VERSION:2.0
PRODID:-//eventon.com NONSGML v1.0//EN
CALSCALE:GREGORIAN
METHOD:PUBLISH
BEGIN:VEVENT
UID:69ed0fb3323e5
DTSTAMP:20260425T190211Z
DTSTART:20250925
DTEND:20250926
LOCATION:Denzentral in verschiedenen Venues in Flensburg Flensburg
SUMMARY:Flensburg: KLANG Festival
DESCRIPTION:Das KLANG Festival macht Flensburg zu einer Bühne für spannen
 de Sounds\,  Newcomer Künstler*innen und Begegnungen. Dezentral bringen wi
 r Musik in die Stadt – in Clubs\,  Kulturzentren\,  Off-Spaces und an ung
 ewöhnliche Orte. KLANG ist mehr als ein Festival. Es ist ein Raum für kul
 turelle Teilhabe\,  Experimente und ganzheitliche Nachwuchsförderung. Wir 
 vernetzen[..]\nhttps://schleswig-holstein.sh/blog/veranstaltungen/klang-fes
 tival-2/
URL:https://schleswig-holstein.sh/blog/veranstaltungen/klang-festival-2/
END:VEVENT
END:VCALENDAR