BEGIN:VCALENDAR
VERSION:2.0
PRODID:-//eventon.com NONSGML v1.0//EN
CALSCALE:GREGORIAN
METHOD:PUBLISH
BEGIN:VEVENT
UID:69ecaab37d0fb
DTSTAMP:20260425T115115Z
DTSTART:20250705
DTEND:20250706
LOCATION:Kappeln an der Schlei
SUMMARY:Kappeln: Ausstellung „Gegen das Vergessen“ von Luigi Toscano
DESCRIPTION:Eröffnung der Ausstellung: 5. Juli 2025\,  11 Uhr im Schulhof 
 des Berufsbildungszentrums Kappeln\,  Kirchstraße 6 Beiträge von Bildungs
 ministerin Dr. Dorit Stenke Luigi Toscano R.U. Schlotter\,  Verband der Deu
 tschen Sinti und Roma\,  Landdesverband Schleswig-Holstein Gerhard Ulrich\,
   Beauftragter für jüdisches Leben und gegen Antisemitismus für Schleswi
 g-Holstein und weitere Musik: Duo COMUS (Ulrich[..]\nhttps://schleswig-hols
 tein.sh/blog/veranstaltungen/ausstellung-gegen-das-vergessen-von-luigi-tosc
 ano/
URL:https://schleswig-holstein.sh/blog/veranstaltungen/ausstellung-gegen-das-vergessen-von-luigi-toscano/
END:VEVENT
END:VCALENDAR