BEGIN:VCALENDAR
VERSION:2.0
PRODID:-//eventon.com NONSGML v1.0//EN
CALSCALE:GREGORIAN
METHOD:PUBLISH
BEGIN:VEVENT
UID:69e737781612d
DTSTAMP:20260421T083816Z
DTSTART:20250719T170000Z
DTEND:20250719T183000Z
LOCATION:Stadtseeanleger Fahrgastschiff Till / Morgenroth Seestraße 46a\,  23879 Mölln
SUMMARY:Klabauterklön und Wasserwesen
DESCRIPTION:Ahoi und Moin Moin! Man soll die Crew ja nicht vor dem Landgang
  loben\,  aber der Smutje und Konsorten kapern am Wochenende 19. und 20. Ju
 li jeweils um 16 und 19 Uhr die Ufer Möllns\,  erzählen Geschichten und s
 pinnen Seemannsgarn. Wer möchte an Bord anheuern? „Kommen sie mit uns un
 d[..]\nhttps://schleswig-holstein.sh/blog/veranstaltungen/klabauterkloen-un
 d-wasserwesen/var/ri-1.l-L1
URL:https://schleswig-holstein.sh/blog/veranstaltungen/klabauterkloen-und-wasserwesen/var/ri-1.l-L1
END:VEVENT
END:VCALENDAR